BEGIN:VCALENDAR
VERSION:2.0
PRODID:-//https://www.takethedate.it///NONSGML kigkonsult.se iCalcreator 2.10.15//
METHOD:PUBLISH
BEGIN:VEVENT
UID:20260422T213433CEST-9226OwmEM9@https://www.takethedate.it/
DTSTAMP:20260422T193433Z
DESCRIPTION:Webinar organizzato da ANIA SAFE. Per registrarsi cliccare qui.
  https://www.takethedate.it/Eventi/20601-geo-safe-nuova-metodologia-per-la
 -pericolosita-sismica-su-scala-nazionale.html
DTSTART:20200702T090000Z
DTEND:20200702T103000Z
LOCATION:evento online  ()
SUMMARY:GEO SAFE: nuova metodologia per la pericolosità sismica su scala na
 zionale
URL:https://www.takethedate.it/Eventi/20601-geo-safe-nuova-metodologia-per-
 la-pericolosita-sismica-su-scala-nazionale.html
END:VEVENT
END:VCALENDAR
