BEGIN:VCALENDAR
VERSION:2.0
PRODID:-//https://www.takethedate.it///NONSGML kigkonsult.se iCalcreator 2.10.15//
METHOD:PUBLISH
BEGIN:VEVENT
UID:20260423T054957CEST-1031WhiaRC@https://www.takethedate.it/
DTSTAMP:20260423T034957Z
DESCRIPTION:Giovedì 11 giugno\, dalle ORE 17\,00 ALLE ORE 18\,00\, in diret
 ta sulla pagina FACEBOOK e sul canale YOUTUBE di Avviso Pubblico\, nuovo a
 ppuntamento del ciclo di videoconferenze 'Le mafie ai tempi del Coronaviru
 s'.\nAll'incontro dal titolo 'L'economia sommersa e il sud. sopravvivenza\
 , competizione e criminalità' interverranno:Giuseppe L. C. Provenzano\, mi
 nistro per il Sud e la coesione sociale\;ISAIA SALES\, storico e docente U
 niversità Suor Orsola Benincasa.\nModera Vincenzo Spagnolo\, giornalista d
 i Avvenire.\nPer maggiori informazioni scrivi a stampa@avvisopubblico.it h
 ttps://www.takethedate.it/Eventi/20125-leconomia-sommersa-e-il-sud-sopravv
 ivenza-competizione-e-criminalita.html
DTSTART:20200624T150000Z
DTEND:20200624T160000Z
LOCATION:evento online  ()
SUMMARY:L'economia sommersa e il sud. Sopravvivenza\, competizione e crimin
 alità
URL:https://www.takethedate.it/Eventi/20125-leconomia-sommersa-e-il-sud-sop
 ravvivenza-competizione-e-criminalita.html
END:VEVENT
END:VCALENDAR
