BEGIN:VCALENDAR
VERSION:2.0
PRODID:-//https://www.takethedate.it///NONSGML kigkonsult.se iCalcreator 2.10.15//
METHOD:PUBLISH
BEGIN:VEVENT
UID:20260424T130000CEST-74170OAbGj@https://www.takethedate.it/
DTSTAMP:20260424T110000Z
DESCRIPTION:Docente\nDott. Stefano Paoli\, Consulente Legale Formazione Pro
 fessionale\, Esperto in materie giuridiche applicate alla P.A. e Data Prot
 ection Officer (Dpo) – Membro del Comitato scientifico Master Eap Universi
 tà di Pisa di validazione delle prove di esame per Messo notificatore e pe
 r Responsabile della riscossione\nDate e Orari\n8 Giugno 2020* – 10:00 – 1
 2:30\n10 Giugno 2020* – 10:00 – 12:30\n15 Giugno 2020* – 10:00 – 12:30\n*i
  webinar saranno registrati e fruibili anche successivamente alla data di 
 svolgimento\, pertanto anche coloro che non potessero essere presenti dura
 nte l’orario previsto potranno senza problemi fruirli anche in un secondo 
 momento\nProgramma\n1° giornata\nLa notifica degli atti\nInquadramento gen
 erale e quadro giuridico di riferimento. La nozione di notifica. I soggett
 i notificatori e le differenze fra messi comunali e notificatori. Disamina
  art.10 L. 265/99.\n2° giornata\nCome si esegue una notifica\nLe modalità 
 di esecuzione delle notifiche: “a mano” e per posta. La relata di notifica
 . Il concetto di irreperibilità.\n3° giornata\nLe notifiche tributarie del
  messo comunale e la Pec\nLe competenze del messo comunale nell’ambito tri
 butario.\nLe notifiche tramite PEC.\nLa responsabilità del messo comunale 
 e di quello notificatore.\nPrezzi\n€ 110\,00 + IVA * – a partecipante per 
 le tre giornate formative\n€ 190\,00 + IVA * – per n. 2 partecipanti dello
  stesso studio/Ente per le tre giornate formative https://www.takethedate.
 it/Eventi/19944-corso-di-aggiornamento-per-messi-comunali-e-notificatori.h
 tml
DTSTART:20200608T080000Z
DTEND:20200608T103000Z
LOCATION:evento online  ()
SUMMARY:Corso di aggiornamento per messi comunali e notificatori 
URL:https://www.takethedate.it/Eventi/19944-corso-di-aggiornamento-per-mess
 i-comunali-e-notificatori.html
END:VEVENT
END:VCALENDAR
