BEGIN:VCALENDAR
VERSION:2.0
PRODID:-//https://www.takethedate.it///NONSGML kigkonsult.se iCalcreator 2.10.15//
METHOD:PUBLISH
BEGIN:VEVENT
UID:20260423T122108CEST-2503knxR6U@https://www.takethedate.it/
DTSTAMP:20260423T102108Z
DESCRIPTION:Ogni “macchina”\, prima di essere messa su strada\, deve essere
  progettata\, realizzata ed ottimizzata.\nSe vi approcciate al digital mar
 keting il processo mentale è pressoché lo stesso.\nL’analisi\, la programm
 azione e la scelta sono processi fondamentali per l’utilizzo degli strumen
 ti di digital marketing.\nIn questo incontro tratteremo: \n\nle quattro co
 mponenti fondamentali \nl’importanza dei dati strutturati \ndefinizione de
 l piano strategico \nsocial media nel marketing integrato\n\nRelatori:\nRu
 dy Zanchi\, Owner - MOVE Communication\nIscriviti https://www.takethedate.
 it/Eventi/19788-approccio-al-digital-marketing-integrato-dai-4-componenti-
 fondamentali-alla-definizione-del-piano-strategico.html
DTSTART:20200525T090000Z
DTEND:20200525T100000Z
LOCATION:evento online  ()
SUMMARY:Approccio al digital marketing integrato: dai 4 componenti fondamen
 tali alla definizione del piano strategico
URL:https://www.takethedate.it/Eventi/19788-approccio-al-digital-marketing-
 integrato-dai-4-componenti-fondamentali-alla-definizione-del-piano-strateg
 ico.html
END:VEVENT
END:VCALENDAR
