BEGIN:VCALENDAR
VERSION:2.0
PRODID:-//https://www.takethedate.it///NONSGML kigkonsult.se iCalcreator 2.10.15//
METHOD:PUBLISH
BEGIN:VEVENT
UID:20260424T062312CEST-7070MlDW2C@https://www.takethedate.it/
DTSTAMP:20260424T042312Z
DESCRIPTION:Il Seminario\, che si terrà in forma Webinar\, tratta di alcuni
  strumenti regolatori che favoriscono la messa a disposizione di nuove ter
 apie: la possibilità per i Pazienti di avere accesso ad alcune terapie pri
 ma ancora della Autorizzazione all’Immissione in Commercio\, i parametri i
 mportanti per la rimborsabilità dopo l’AIC europea\, il controllo della si
 curezza dei nuovi farmaci\, dopo la loro reale disponibilità\, tramite le 
 “Real World Evidences”. Inoltre si illustreranno le attività dei gruppi di
  lavoro SIARV.\n \n14.25 – 14.30 Introduzione - Enrico Bosone – SIARV14.30
  – 15.00 Strumenti di disponibilità precoce e emergenza COVID - Dottoressa
  Sandra Petraglia* (AIFA - *in attesa di conferma)15.00 – 15.10 Domande e 
 dibattito15.10 – 15.40 Value vs costbased pricing - Renato Dallamano (Valu
 evector)15.40 – 15.50 Domande e dibattito15.50 – 16.00 Pausa16.00 – 16.15 
 Premio SIARV - Valeria Viola (SIARV)16.15 – 16.30 Attività GdL - Coordinat
 ori GdL SIARV16.30 – 17.15 Monitoraggio di FarmacoVigilanza tramite RWE in
  emergenze sanitarie - Professor Gianluca Trifirò (Università degli Studi 
 di Messina)17.15 – 17.30 Domande e dibattito https://www.takethedate.it/Ev
 enti/19773-strumenti-regolatori-a-vantaggio-del-paziente.html
DTSTART:20200529T121500Z
DTEND:20200529T160000Z
LOCATION:evento online  ()
SUMMARY:Strumenti regolatori a vantaggio del Paziente
URL:https://www.takethedate.it/Eventi/19773-strumenti-regolatori-a-vantaggi
 o-del-paziente.html
END:VEVENT
END:VCALENDAR
