BEGIN:VCALENDAR
VERSION:2.0
PRODID:-//https://www.takethedate.it///NONSGML kigkonsult.se iCalcreator 2.10.15//
METHOD:PUBLISH
BEGIN:VEVENT
UID:20260423T122843CEST-2330VVSOOB@https://www.takethedate.it/
DTSTAMP:20260423T102843Z
DESCRIPTION:Mer 1 apr 2020 15.00 - 16.00 CEST\nL'Ing. Mirco Damoli\, Managi
 ng & Technical Director di Hochiki Italia e presidente dell'Associazione P
 REVENZIONEINCENDITALIA\, conduce un webinar sul tema del controllo e della
  manutenzione dei sistemi di rivelazione incendi secondo la norma UNI 1122
 4:2019. L'incontro\, organizzato e promosso da Associazione PREVENZIONEINC
 ENDITALIA è un utile momento di confronto anche in tempi di restrizioni ed
  isolamento da epidemia COVID-19. La partecipazione a questa trasmissione 
 non prevede il rilascio di CFP (crediti formativi professionali) e/o il ri
 lascio di ore di aggiornamento in prevenzione incendi\, secondo quanto dis
 posto dal D.M. 05/08/2011 e s.m.i. https://www.takethedate.it/Eventi/19033
 -controllo-iniziale-e-manutenzione-dei-sistemi-di-rivelazione-incendi-seco
 ndo-la-norma-uni-11224-2019.html
DTSTART:20200401T130000Z
DTEND:20200401T140000Z
LOCATION:evento online  ()
SUMMARY:Controllo iniziale e manutenzione dei sistemi di rivelazione incend
 i secondo la norma UNI 11224:2019
URL:https://www.takethedate.it/Eventi/19033-controllo-iniziale-e-manutenzio
 ne-dei-sistemi-di-rivelazione-incendi-secondo-la-norma-uni-11224-2019.html
END:VEVENT
END:VCALENDAR
