BEGIN:VCALENDAR
VERSION:2.0
PRODID:-//https://www.takethedate.it///NONSGML kigkonsult.se iCalcreator 2.10.15//
METHOD:PUBLISH
BEGIN:VEVENT
UID:20260419T231455CEST-3430HNzLKa@https://www.takethedate.it/
DTSTAMP:20260419T211455Z
DESCRIPTION:Una community che promuove l’innovazione\, la crescita economic
 a e l’inclusione\, intesa come equo e libero accesso al lavoro e alle oppo
 rtunità offerte dalla quarta rivoluzione industriale. Il luogo dove la for
 mazione\, lo sviluppo di idee innovative e l’imprenditorialità digitale in
 contrano i bisogni e le sfide della comunità locale.\nTutto questo è Tech 
 Station Padova by MolenGeek\, che Mercoledì 12 Febbraio dalle ore 19:00 os
 piterà una tavola rotonda a tema digital: tre imprenditori di successo\, e
 ccellenze del territorio patavino\, racconteranno le proprie esperienze az
 iendali\, come sono riusciti a modificare il proprio business\, a gestire 
 il cambiamento\, rimanendo fedeli alla vision\, aggredendo nuove fette di 
 mercato e portando l’innovazione made in Italy nel mondo.\nUn modo per off
 rire al pubblico spunti di riflessione e best practices fondamentali per g
 estire un mercato sempre più fluido e per puntare sullo sviluppo di compet
 enze davvero utili\, che fanno la differenza.\nNe parleranno Michele Polic
 o (Young Digitals)\, Jacopo Pertile (Azzurro Digitale) e Pier Mattia Avesa
 ni (Uqido).\nModeratore dell’evento Cesare Granati\, giornalista ed espert
 o di Comunicazione e Innovazione Sociale.\n19:00 – Registrazione\n19:15 – 
 Saluti e presentazione di Tech Station\, a cura di Nicola Brisotto\n19:30 
 – Imprenditori digitali: professionisti del cambiamento\nIntervengono:\nMi
 chele Polico\, CEO Young Digitals\nJacopo Pertile\, Co-founder AzzurroDigi
 tale\nPier Mattia Avesani\, CEO Uqido\nModera:\nCesare Granati\, Cesare Gr
 anati PR & COMMUNICATION\n20:30 – Aperitivo e networking https://www.taket
 hedate.it/Eventi/18380-imprenditori-digitali-professionisti-del-cambiament
 o.html
DTSTART:20200212T180000Z
DTEND:20200212T210000Z
LOCATION:TechStation Padova (Via Trieste 1\, Padova)
SUMMARY:Imprenditori digitali: professionisti del cambiamento
URL:https://www.takethedate.it/Eventi/18380-imprenditori-digitali-professio
 nisti-del-cambiamento.html
END:VEVENT
END:VCALENDAR
