BEGIN:VCALENDAR
VERSION:2.0
PRODID:-//https://www.takethedate.it///NONSGML kigkonsult.se iCalcreator 2.10.15//
METHOD:PUBLISH
BEGIN:VEVENT
UID:20260425T131237CEST-2719lCo5KK@https://www.takethedate.it/
DTSTAMP:20260425T111237Z
DESCRIPTION:Terni\, 9 – 10 ottobre 2019  https://www.takethedate.it/Eventi/
 15622-6th-world-top-communications-of-the-year-in-genito-urinary-oncology.
 html
DTSTART:20191009T110000Z
DTEND:20191010T130000Z
LOCATION:Hotel Michelangelo Palace Terni (Viale della Stazione 63\, Terni )
SUMMARY:6th World Top Communications of the Year in Genito-Urinary Oncology
URL:https://www.takethedate.it/Eventi/15622-6th-world-top-communications-of
 -the-year-in-genito-urinary-oncology.html
END:VEVENT
END:VCALENDAR
