BEGIN:VCALENDAR
VERSION:2.0
PRODID:-//https://www.takethedate.it///NONSGML kigkonsult.se iCalcreator 2.10.15//
METHOD:PUBLISH
BEGIN:VEVENT
UID:20260421T151732CEST-8393GTZoSx@https://www.takethedate.it/
DTSTAMP:20260421T131732Z
DESCRIPTION:Roma Istituto della Enciclopedia Italiana Sala Igea Palazzo Mat
 tei di Paganica Piazza della Enciclopedia Italiana 4 ore 17:30\nPresentazi
 one del libro: 'Partito e democrazia. L'incerto percorso della legittimazi
 one dei partiti' di Piero IgnaziIn dialogo con Giuliano Amato\, Fabrizio B
 arca e Fulco Lanchester. https://www.takethedate.it/Eventi/15621-presentaz
 ione-del-libro-partito-e-democrazia-lincerto-percorso-della-legittimazione
 -dei-partiti.html
DTSTART:20191002T153000Z
DTEND:20191002T173000Z
LOCATION:Istituto della Enciclopedia Italiana (Piazza della Enciclopedia It
 aliana\, 4 Roma )
SUMMARY:Presentazione del libro: 'Partito e democrazia. L'incerto percorso 
 della legittimazione dei partiti' 
URL:https://www.takethedate.it/Eventi/15621-presentazione-del-libro-partito
 -e-democrazia-lincerto-percorso-della-legittimazione-dei-partiti.html
END:VEVENT
END:VCALENDAR
