BEGIN:VCALENDAR
VERSION:2.0
PRODID:-//https://www.takethedate.it///NONSGML kigkonsult.se iCalcreator 2.10.15//
METHOD:PUBLISH
BEGIN:VEVENT
UID:20260421T072244CEST-7646MRX1RV@https://www.takethedate.it/
DTSTAMP:20260421T052244Z
DESCRIPTION:'Evoluzione del commercio con l'estero per aree e settori'​ si 
 terrà mercoledì 6 dicembre p.v. presso la Sala Pirelli dell'Agenzia ICE - 
 Corso Magenta\, 59\, Milano​.\nPer partecipare è necessario registrarsi\, 
 entro e non oltre le ore 10:00 di lunedì 4 dicembre\, cliccando qui https:
 //www.takethedate.it/Eventi/1394-evoluzione-del-commercio-con-lestero-per-
 aree-e-settori.html
DTSTART:20171206T093000Z
DTEND:20171206T120000Z
LOCATION:Agenzia ICE (Corso Magenta 59\, Milano)
SUMMARY:Evoluzione del commercio con l'estero per aree e settori
URL:https://www.takethedate.it/Eventi/1394-evoluzione-del-commercio-con-les
 tero-per-aree-e-settori.html
END:VEVENT
END:VCALENDAR
