BEGIN:VCALENDAR
VERSION:2.0
PRODID:-//https://www.takethedate.it///NONSGML kigkonsult.se iCalcreator 2.10.15//
METHOD:PUBLISH
BEGIN:VEVENT
UID:20260422T115923CEST-37518RbkVl@https://www.takethedate.it/
DTSTAMP:20260422T095923Z
DESCRIPTION:Matera MH Matera Hotel\, Via Germania 10\, Matera\nDal 9 al 12 
 giugno 2019 Matera ospiterà il Congresso Nazionale dell’Associazione dei C
 hirurghi Ospedalieri Italiani. L’ACOI riveste da sempre il ruolo di punto 
 di riferimento di una Cultura Chirurgica Italiana di considerevole rilievo
 : questo evento costituirà un importante occasione di confronto profession
 ale e di approfondimento su tematiche chirurgiche di elevato livello e rap
 presenterà indiscutibilmente un momento di aggregazione culturale fra pers
 one che sono quotidianamente impegnate ad accrescere la tradizione e l’esp
 erienza chirurgica italiana\, che saranno riferimento e momento di formazi
 one per le generazioni dei chirurghi più giovani. https://www.takethedate.
 it/Eventi/13597-38-congresso-nazionale-acoi.html
DTSTART:20190609T080000Z
DTEND:20190612T160000Z
LOCATION:MH Matera Hotel (Via Germania 10\, Matera)
SUMMARY:38° congresso nazionale ACOI
URL:https://www.takethedate.it/Eventi/13597-38-congresso-nazionale-acoi.htm
 l
END:VEVENT
END:VCALENDAR
