BEGIN:VCALENDAR
VERSION:2.0
PRODID:-//https://www.takethedate.it///NONSGML kigkonsult.se iCalcreator 2.10.15//
METHOD:PUBLISH
BEGIN:VEVENT
UID:20260421T074953CEST-2191FcisOe@https://www.takethedate.it/
DTSTAMP:20260421T054953Z
DESCRIPTION:30 aprile 2019 ore 9:00Sala Consiglio Viale Pola 12\, Roma\nLui
 ss School of Government presents a seminar organized within the Jean Monne
 t Chair on “Understanding Representative Democracy in Europe”.Program\nThe
  sustainability of parliamentary representation in asymmetric contexts: Eu
 rope and beyondChairPietro Pustorino Luiss\nSpeakersRichard Bellamy Europe
 an University Institute: Differentiated Integration as a Fair Scheme of Co
 operation Giuseppe Martinico Sant’Anna di Pisa: Parliaments in asymmetric 
 federal states Nicolas Besly UK House of Lords: Representation at Westmins
 ter after devolution: the case of EVEL\nDiscussantsRobert Schütze Durham L
 aw School and LuissCristina Fasone Luiss\nDebateCoffee Break\nRoundtable -
  The European Parliament and representative democracy in a ‘multi-speed’ U
 nion\nChairNicola Lupo Luiss\nSpeakersFrancesco Cherubini LuissGianluca Co
 ntaldi University of MacerataElena Griglio Senate of the Italian Republic
 \nConclusionAntoine Vauchez e Stéphanie Hennette-Vauchez Université Paris 
 1 Pantheon Sorbonne\n  https://www.takethedate.it/Eventi/12895-parliaments
 -in-asymmetric-federal-systems-how-to-combine-differentiation-with-parliam
 entary-representation.html
DTSTART:20190430T070000Z
DTEND:20190430T110000Z
LOCATION:LUISS Sala Consiglio (Viale Pola 12\, Roma)
SUMMARY:Parliaments in Asymmetric 'federal' Systems: How to Combine Differe
 ntiation with Parliamentary Representation 
URL:https://www.takethedate.it/Eventi/12895-parliaments-in-asymmetric-feder
 al-systems-how-to-combine-differentiation-with-parliamentary-representatio
 n.html
END:VEVENT
END:VCALENDAR
