BEGIN:VCALENDAR
VERSION:2.0
PRODID:-//https://www.takethedate.it///NONSGML kigkonsult.se iCalcreator 2.10.15//
METHOD:PUBLISH
BEGIN:VEVENT
UID:20260425T170900CEST-2667XsZXbP@https://www.takethedate.it/
DTSTAMP:20260425T150900Z
DESCRIPTION:04 Dicembre 2017\, 09:00 - 16:00\nMilano - Aula Magna - Via Roe
 ntgen\, 1\n\nConvegno OASI 2017- Presentazione Rapporto OASI\n\n\nIl Conve
 gno Nazionale di presentazione del Rapporto OASI 2017 (Osservatorio sulle 
 Aziende e sul Sistema Sanitario Italiano)\, il volume che dal 2000 monitor
 a e interpreta i cambiamenti in atto nelle politiche sanitarie e nel manag
 ement delle aziende sanitarie pubbliche e private.\nLa presentazione del R
 apporto\, alla presenza dei principali attori istituzionali e dei manager 
 del SSN\, rappresenta un appuntamento ormai consolidato nel panorama della
  sanità italiana e\, allo stesso tempo\, un utile strumento di lavoro\, do
 ve mondo accademico e operatori del SSN possono interagire condividendo co
 noscenze\, esperienze e soluzioni.\nOltre allo stato dell'arte del sistema
  sanitario e socio-sanitario\, nel corso della giornata saranno approfondi
 ti e discussi i seguenti temi: le politiche di riordino dei SSR\; i profil
 i economico-finanziari delle aziende alla luce dei parametri che disciplin
 ano i Piani di Rientro aziendali\; la lotta agli sprechi e alla corruzione
  e i relativi impatti sui processi gestionali\; lo sviluppo delle cure int
 ermedie\, di cui sarà presentata la prima mappatura nazionale\; il rafforz
 amento del middle management del SSN\; i cambiamenti in atto e le interrel
 azioni crescenti che riguardano HTA\, acquisti e logistica.\nLa presentazi
 one del Rapporto 2017 è possibile grazie al contributo incondizionato di B
 ayer e Bristol-Myers Squibb.\nL'evento è aperto a policymaker nazionali e 
 regionali e a tutti i membri delle direzioni strategiche delle aziende san
 itarie pubbliche e private\, ai membri degli staff aziendali e a tutti i p
 rofessionisti\, dirigenti e operatori sanitari e amministrativi interessat
 i.\nLa partecipazione è gratuita previa registrazione online\n https://www
 .takethedate.it/Eventi/1144-presentazione-rapporto-2017-osservatorio-azien
 de-e-sistema-sanitario-italiano.html
DTSTART:20171204T080000Z
DTEND:20171204T150000Z
LOCATION: ()
SUMMARY:Presentazione Rapporto 2017 Osservatorio Aziende e Sistema Sanitari
 o Italiano
URL:https://www.takethedate.it/Eventi/1144-presentazione-rapporto-2017-osse
 rvatorio-aziende-e-sistema-sanitario-italiano.html
END:VEVENT
END:VCALENDAR
