BEGIN:VCALENDAR
VERSION:2.0
PRODID:-//https://www.takethedate.it///NONSGML kigkonsult.se iCalcreator 2.10.15//
METHOD:PUBLISH
BEGIN:VEVENT
UID:20260421T195149CEST-21114rF4Dw@https://www.takethedate.it/
DTSTAMP:20260421T175149Z
DESCRIPTION:Villa Mondragone economic development association organizza la 
 32esima edizione della conferenza economica internazionale Villa Mondragon
 e. L’evento di apertura dell’iniziativa sarà un momento dedicato al ripens
 amento della sostenibilità dello sviluppo economico nel contesto internazi
 onale creato dalla pandemia. Partecipa Enrico Giovannini\, ministro delle 
 Infrastrutture e della mobilità sostenibile. https://www.takethedate.it/ec
 onomia/Eventi/27541-conferenza-economica-internazionale-di-villa-mondragon
 e.html
DTSTART:20210705T130000Z
DTEND:20210708T110000Z
LOCATION:evento online  ()
SUMMARY:Conferenza economica internazionale di Villa Mondragone
URL:https://www.takethedate.it/economia/Eventi/27541-conferenza-economica-i
 nternazionale-di-villa-mondragone.html
END:VEVENT
END:VCALENDAR
