BEGIN:VCALENDAR
VERSION:2.0
PRODID:-//https://www.takethedate.it///NONSGML kigkonsult.se iCalcreator 2.10.15//
METHOD:PUBLISH
BEGIN:VEVENT
UID:20260419T225521CEST-8181t6hvOo@https://www.takethedate.it/
DTSTAMP:20260419T205521Z
DESCRIPTION:Interviene all'evento 'Green Economy Festival'  https://www.tak
 ethedate.it/archivio/Eventi/52275-green-economy-festival.html
DTSTART:20260417T080000Z
DTEND:20260417T110000Z
LOCATION:evento online  ()
SUMMARY:Green Economy Festival
URL:https://www.takethedate.it/archivio/Eventi/52275-green-economy-festival
 .html
END:VEVENT
END:VCALENDAR
