BEGIN:VCALENDAR
VERSION:2.0
PRODID:-//https://www.takethedate.it///NONSGML kigkonsult.se iCalcreator 2.10.15//
METHOD:PUBLISH
BEGIN:VEVENT
UID:20260419T225402CEST-4323M97xE0@https://www.takethedate.it/
DTSTAMP:20260419T205402Z
DESCRIPTION:Partecipazione alla Conferenza sulla navigazione marittima nell
 o Stretto di Hormuz https://www.takethedate.it/archivio/Eventi/52274-confe
 renza-sulla-navigazione-marittima-nello-stretto-di-hormuz.html
DTSTART:20260417T120000Z
DTEND:20260417T150000Z
LOCATION:evento online  ()
SUMMARY:Conferenza sulla navigazione marittima nello Stretto di Hormuz
URL:https://www.takethedate.it/archivio/Eventi/52274-conferenza-sulla-navig
 azione-marittima-nello-stretto-di-hormuz.html
END:VEVENT
END:VCALENDAR
