BEGIN:VCALENDAR
VERSION:2.0
PRODID:-//https://www.takethedate.it///NONSGML kigkonsult.se iCalcreator 2.10.15//
METHOD:PUBLISH
BEGIN:VEVENT
UID:20260419T172445CEST-3374eTsk56@https://www.takethedate.it/
DTSTAMP:20260419T152445Z
DESCRIPTION:  https://www.takethedate.it/archivio/Eventi/52265-il-sistema-s
 orrento-presentazione-del-libro-di-vincenzo-iurillo-conferenza-stampa-di-c
 armen-di-lauro.html
DTSTART:20260417T110000Z
DTEND:20260417T140000Z
LOCATION:Roma (Roma)
SUMMARY:Il sistema Sorrento - Presentazione del libro di Vincenzo Iurillo -
  Conferenza stampa di Carmen Di Lauro
URL:https://www.takethedate.it/archivio/Eventi/52265-il-sistema-sorrento-pr
 esentazione-del-libro-di-vincenzo-iurillo-conferenza-stampa-di-carmen-di-l
 auro.html
END:VEVENT
END:VCALENDAR
