BEGIN:VCALENDAR
VERSION:2.0
PRODID:-//https://www.takethedate.it///NONSGML kigkonsult.se iCalcreator 2.10.15//
METHOD:PUBLISH
BEGIN:VEVENT
UID:20260419T172446CEST-2854zbCOrJ@https://www.takethedate.it/
DTSTAMP:20260419T152446Z
DESCRIPTION:  https://www.takethedate.it/archivio/Eventi/52263-appello-a-un
 iversita-e-istituzioni-per-gli-studenti-iraniani-oppressi-dal-regime-confe
 renza-stampa-di-benedetto-della-vedova.html
DTSTART:20260417T080000Z
DTEND:20260417T110000Z
LOCATION:Roma (Roma)
SUMMARY:Appello a Università e Istituzioni per gli studenti iraniani oppres
 si dal regime - Conferenza stampa di Benedetto Della Vedova
URL:https://www.takethedate.it/archivio/Eventi/52263-appello-a-universita-e
 -istituzioni-per-gli-studenti-iraniani-oppressi-dal-regime-conferenza-stam
 pa-di-benedetto-della-vedova.html
END:VEVENT
END:VCALENDAR
