BEGIN:VCALENDAR
VERSION:2.0
PRODID:-//https://www.takethedate.it///NONSGML kigkonsult.se iCalcreator 2.10.15//
METHOD:PUBLISH
BEGIN:VEVENT
UID:20260419T183643CEST-6433gidfOV@https://www.takethedate.it/
DTSTAMP:20260419T163643Z
DESCRIPTION:Il Piano Mattei. Un ponte nord-sud. Formazione per la cooperazi
 one internazionale. Su iniziativa del senatore Maurizio Gasparri https://w
 ww.takethedate.it/archivio/Eventi/52262-il-piano-mattei.html
DTSTART:20260417T150000Z
DTEND:20260417T170000Z
LOCATION:Roma (Roma)
SUMMARY:Il Piano Mattei
URL:https://www.takethedate.it/archivio/Eventi/52262-il-piano-mattei.html
END:VEVENT
END:VCALENDAR
