BEGIN:VCALENDAR
VERSION:2.0
PRODID:-//https://www.takethedate.it///NONSGML kigkonsult.se iCalcreator 2.10.15//
METHOD:PUBLISH
BEGIN:VEVENT
UID:20260419T172011CEST-8909tzSu4v@https://www.takethedate.it/
DTSTAMP:20260419T152011Z
DESCRIPTION:Premio Montale fuori di casa - Sezione “Montale senatore” 2026 
 a Riccardo Nencini. Su iniziativa della senatrice Raffaella Paita https://
 www.takethedate.it/archivio/Eventi/52261-premio-montale-fuori-di-casa.html
DTSTART:20260417T130000Z
DTEND:20260417T150000Z
LOCATION:Roma (Roma)
SUMMARY:Premio Montale fuori di casa
URL:https://www.takethedate.it/archivio/Eventi/52261-premio-montale-fuori-d
 i-casa.html
END:VEVENT
END:VCALENDAR
