BEGIN:VCALENDAR
VERSION:2.0
PRODID:-//https://www.takethedate.it///NONSGML kigkonsult.se iCalcreator 2.10.15//
METHOD:PUBLISH
BEGIN:VEVENT
UID:20260419T184925CEST-73836FPDbE@https://www.takethedate.it/
DTSTAMP:20260419T164925Z
DESCRIPTION:Prosegue il corso La Piattaforma dei crediti commerciali del pe
 rcorso Tempi di pagamento dei debiti commerciali con il secondo modulo dal
  titolo L'identificazione del debito commerciale: la gestione delle scaden
 ze\, delle sospensioni e delle note di credito e la comunicazione dello st
 ock.\nLa corretta e tempestiva alimentazione della PCC da parte degli Enti
  è condizione essenziale per consentire al sistema l’elaborazione di indic
 atori attendibili per la valutazione del livello e della dinamica dei temp
 i di pagamento e dello stock di debiti commerciali.\nLe Amministrazioni pu
 bbliche comunicano le informazioni di avvenuto pagamento delle fatture in 
 via automatica per il tramite di SIOPE+ e sono chiamate alla verifica dell
 a corretta predisposizione degli ordinativi di incasso e pagamento (OPI)\,
  nonché alla corretta registrazione delle operazioni che non è possibile a
 utomatizzare.\nIn questo contesto\, la lezione metterà i partecipanti nell
 e condizioni di effettuare correttamente le operazioni di: comunicazione s
 cadenza\, sospensione\, gestione delle note di credito e comunicazione del
 lo stock di debito.\nDocenti: Gianpiero Zaffi Borgetti - Responsabile Area
  ICT e Servizi ai Comuni\, Dipartimento Finanza Locale IFEL\; Gabriele Ser
 afini - Software analyst\, SOGEI. https://www.takethedate.it/archivio/Even
 ti/52240-lidentificazione-del-debito-commerciale-la-gestione-delle-scadenz
 e-delle-sospensioni-e-delle-note-di-credito-e-la-comunicazione-dello-stock
 .html
DTSTART:20260417T093000Z
DTEND:20260417T110000Z
LOCATION:evento online  ()
SUMMARY:L'identificazione del debito commerciale: la gestione delle scadenz
 e\, delle sospensioni e delle note di credito e la comunicazione dello sto
 ck
URL:https://www.takethedate.it/archivio/Eventi/52240-lidentificazione-del-d
 ebito-commerciale-la-gestione-delle-scadenze-delle-sospensioni-e-delle-not
 e-di-credito-e-la-comunicazione-dello-stock.html
END:VEVENT
END:VCALENDAR
