BEGIN:VCALENDAR
VERSION:2.0
PRODID:-//https://www.takethedate.it///NONSGML kigkonsult.se iCalcreator 2.10.15//
METHOD:PUBLISH
BEGIN:VEVENT
UID:20260419T172414CEST-21256Cbl5p@https://www.takethedate.it/
DTSTAMP:20260419T152414Z
DESCRIPTION:Venerdì Culturale del 17.04.2026 dalle ore 17:00 alle 19:00  “S
 trategie innovative di gestione sostenibile dei pascoli”\, organizzato in 
 collaborazione con la Federazione Italiana Dottori in Scienze della Produz
 ione Animale - FIDSPA. Il seminario è l’ultimo del 30° ciclo per poi ripre
 ndere il 2 ottobre 2026 con il 31° ciclo.\nRelatori: Riccardo Primi (UNITU
 S) e Mariana Donnola (Ingegnere Zootecnico e Allevatrice Rigenerativa)\nIn
 troduce Elena Senatore (FIDSPA)\, modera Teresa Ibele (0DAF RM)\nIl semina
 rio si svolgerà in modalità ibrida\, sia in presenza nella sede dell’Ordin
 e\, che a distanza sulla piattaforma GoToWebinar®\nPer partecipare da remo
 to è necessario iscriversi al seguente LINK:\nhttps://attendee.gotowebinar
 .com/register/4866745681739902813\nAl termine dell'iscrizione si riceverà 
 una e-mail di conferma con le informazioni su come partecipare al webinar.
 \nSi raccomanda di seguire le istruzioni per la verifica dei requisiti di 
 sistema.\nAi partecipanti verranno riconosciuti 0\,25 CFP\n(N.B. L’iscrizi
 one al portale SIDAF\, necessaria per i CFP\, non consente l’accesso al we
 binar)\nLocandina https://www.takethedate.it/archivio/Eventi/52235-venerdi
 -culturale-strategie-innovative-di-gestione-sostenibile-dei-pascoli.html
DTSTART:20260417T150000Z
DTEND:20260417T170000Z
LOCATION:evento online  ()
SUMMARY:Venerdì culturale: 'strategie innovative di gestione sostenibile de
 i pascoli'
URL:https://www.takethedate.it/archivio/Eventi/52235-venerdi-culturale-stra
 tegie-innovative-di-gestione-sostenibile-dei-pascoli.html
END:VEVENT
END:VCALENDAR
