BEGIN:VCALENDAR
VERSION:2.0
PRODID:-//https://www.takethedate.it///NONSGML kigkonsult.se iCalcreator 2.10.15//
METHOD:PUBLISH
BEGIN:VEVENT
UID:20260423T102846CEST-5525LiSpZS@https://www.takethedate.it/
DTSTAMP:20260423T082846Z
DESCRIPTION:Il ministro delle Imprese e del Made in Italy\, Adolfo Urso\, i
 nterviene all'evento 'L'impatto delle crisi globali sul Made in Italy. Pro
 spettive e interventi per il comparto della moda'\, organizzato da Confind
 ustria Accessori Moda https://www.takethedate.it/archivio/Eventi/52223-lim
 patto-delle-crisi-globali-sul-made-in-italy-prospettive-e-interventi-per-i
 l-comparto-della-moda.html
DTSTART:20260416T083000Z
DTEND:20260416T113000Z
LOCATION:evento online  ()
SUMMARY:L'impatto delle crisi globali sul Made in Italy. Prospettive e inte
 rventi per il comparto della moda
URL:https://www.takethedate.it/archivio/Eventi/52223-limpatto-delle-crisi-g
 lobali-sul-made-in-italy-prospettive-e-interventi-per-il-comparto-della-mo
 da.html
END:VEVENT
END:VCALENDAR
