BEGIN:VCALENDAR
VERSION:2.0
PRODID:-//https://www.takethedate.it///NONSGML kigkonsult.se iCalcreator 2.10.15//
METHOD:PUBLISH
BEGIN:VEVENT
UID:20260419T184344CEST-9991iJLdOA@https://www.takethedate.it/
DTSTAMP:20260419T164344Z
DESCRIPTION:XL Edizione Premio europeo Capocirceo. Su iniziativa del senato
 re Pierantonio Zanettin https://www.takethedate.it/archivio/Eventi/52214-x
 l-edizione-premio-europeo-capocirceo.html
DTSTART:20260416T140000Z
DTEND:20260416T160000Z
LOCATION:Roma (Roma)
SUMMARY:XL Edizione Premio europeo Capocirceo
URL:https://www.takethedate.it/archivio/Eventi/52214-xl-edizione-premio-eur
 opeo-capocirceo.html
END:VEVENT
END:VCALENDAR
