BEGIN:VCALENDAR
VERSION:2.0
PRODID:-//https://www.takethedate.it///NONSGML kigkonsult.se iCalcreator 2.10.15//
METHOD:PUBLISH
BEGIN:VEVENT
UID:20260419T171927CEST-5807dWmze6@https://www.takethedate.it/
DTSTAMP:20260419T151927Z
DESCRIPTION:Il libro “Stato\, psiche e società. La scuola di Francoforte di
  fronte al fascismo”. Su iniziativa del senatore Peppe De Cristofaro https
 ://www.takethedate.it/archivio/Eventi/52211-presentazione-del-libro-stato-
 psiche-e-societa.html
DTSTART:20260416T140000Z
DTEND:20260416T160000Z
LOCATION:Roma (Roma)
SUMMARY:Presentazione del libro: “Stato\, psiche e società'
URL:https://www.takethedate.it/archivio/Eventi/52211-presentazione-del-libr
 o-stato-psiche-e-societa.html
END:VEVENT
END:VCALENDAR
