BEGIN:VCALENDAR
VERSION:2.0
PRODID:-//https://www.takethedate.it///NONSGML kigkonsult.se iCalcreator 2.10.15//
METHOD:PUBLISH
BEGIN:VEVENT
UID:20260419T172433CEST-4940R9KSki@https://www.takethedate.it/
DTSTAMP:20260419T152433Z
DESCRIPTION:  https://www.takethedate.it/archivio/Eventi/52206-presentazion
 e-del-libro-richard-demarco-the-italian-connection-conferenza-stampa-di-to
 ni-ricciardi.html
DTSTART:20260416T153000Z
DTEND:20260416T173000Z
LOCATION:Roma (Roma)
SUMMARY:Presentazione del libro: 'Richard Demarco: The Italian Connection' 
 - Conferenza stampa di Toni Ricciardi
URL:https://www.takethedate.it/archivio/Eventi/52206-presentazione-del-libr
 o-richard-demarco-the-italian-connection-conferenza-stampa-di-toni-ricciar
 di.html
END:VEVENT
END:VCALENDAR
