BEGIN:VCALENDAR
VERSION:2.0
PRODID:-//https://www.takethedate.it///NONSGML kigkonsult.se iCalcreator 2.10.15//
METHOD:PUBLISH
BEGIN:VEVENT
UID:20260419T172432CEST-9967zpt4U7@https://www.takethedate.it/
DTSTAMP:20260419T152432Z
DESCRIPTION:  https://www.takethedate.it/archivio/Eventi/52205-presentazion
 e-proposta-di-legge-g20-spiagge-conferenza-stampa-di-gianluca-caramanna.ht
 ml
DTSTART:20260416T123000Z
DTEND:20260416T153000Z
LOCATION:Roma (Roma)
SUMMARY:Presentazione Proposta di legge g20 spiagge - Conferenza stampa di 
 Gianluca Caramanna
URL:https://www.takethedate.it/archivio/Eventi/52205-presentazione-proposta
 -di-legge-g20-spiagge-conferenza-stampa-di-gianluca-caramanna.html
END:VEVENT
END:VCALENDAR
