BEGIN:VCALENDAR
VERSION:2.0
PRODID:-//https://www.takethedate.it///NONSGML kigkonsult.se iCalcreator 2.10.15//
METHOD:PUBLISH
BEGIN:VEVENT
UID:20260419T172259CEST-3515IrCI1u@https://www.takethedate.it/
DTSTAMP:20260419T152259Z
DESCRIPTION: https://www.takethedate.it/archivio/Eventi/52204-presentazione
 -libro-giovanni-marconi-conferenza-stampa-di-chiara-gribaudo.html
DTSTART:20260416T110000Z
DTEND:20260416T140000Z
LOCATION:Roma (Roma)
SUMMARY:Presentazione libro Giovanni Marconi - Conferenza stampa di Chiara 
 Gribaudo
URL:https://www.takethedate.it/archivio/Eventi/52204-presentazione-libro-gi
 ovanni-marconi-conferenza-stampa-di-chiara-gribaudo.html
END:VEVENT
END:VCALENDAR
