BEGIN:VCALENDAR
VERSION:2.0
PRODID:-//https://www.takethedate.it///NONSGML kigkonsult.se iCalcreator 2.10.15//
METHOD:PUBLISH
BEGIN:VEVENT
UID:20260419T172444CEST-8590tv7eKt@https://www.takethedate.it/
DTSTAMP:20260419T152444Z
DESCRIPTION:  https://www.takethedate.it/archivio/Eventi/52203-presentazion
 e-del-manifesto-per-la-politica-di-coesione-2028-conferenza-stampa-di-paol
 a-de-micheli.html
DTSTART:20260416T093000Z
DTEND:20260416T123000Z
LOCATION:Roma (Roma)
SUMMARY:Presentazione del manifesto per la politica di coesione 2028 - Conf
 erenza stampa di Paola De Micheli
URL:https://www.takethedate.it/archivio/Eventi/52203-presentazione-del-mani
 festo-per-la-politica-di-coesione-2028-conferenza-stampa-di-paola-de-miche
 li.html
END:VEVENT
END:VCALENDAR
