BEGIN:VCALENDAR
VERSION:2.0
PRODID:-//https://www.takethedate.it///NONSGML kigkonsult.se iCalcreator 2.10.15//
METHOD:PUBLISH
BEGIN:VEVENT
UID:20260419T172445CEST-7580G5ROaV@https://www.takethedate.it/
DTSTAMP:20260419T152445Z
DESCRIPTION:  https://www.takethedate.it/archivio/Eventi/52202-proposte-di-
 modifica-della-normativa-in-tema-di-allontanamento-dei-minori-dal-nucleo-f
 amiliare-conferenza-stampa-di-michela-vittoria-brambilla.html
DTSTART:20260416T080000Z
DTEND:20260416T100000Z
LOCATION:Roma (Roma)
SUMMARY:Proposte di modifica della normativa in tema di allontanamento dei 
 minori dal nucleo familiare - Conferenza stampa di Michela Vittoria Brambi
 lla
URL:https://www.takethedate.it/archivio/Eventi/52202-proposte-di-modifica-d
 ella-normativa-in-tema-di-allontanamento-dei-minori-dal-nucleo-familiare-c
 onferenza-stampa-di-michela-vittoria-brambilla.html
END:VEVENT
END:VCALENDAR
