BEGIN:VCALENDAR
VERSION:2.0
PRODID:-//https://www.takethedate.it///NONSGML kigkonsult.se iCalcreator 2.10.15//
METHOD:PUBLISH
BEGIN:VEVENT
UID:20260419T172019CEST-1225izsa0U@https://www.takethedate.it/
DTSTAMP:20260419T152019Z
DESCRIPTION:Alle ore 10\, presso la Sala della Regina della Camera si svolg
 e il convegno “Shaping tomorrow - Artificial Intelligence & the Digital Tr
 ansformation of the Energy Ecosystem”. Saluto della segretaria di presiden
 za\, Annarita Patriarca. https://www.takethedate.it/archivio/Eventi/52201-
 shaping-tomorrow-artificial-intelligence-e-the-digital-transformation-of-t
 he-energy-ecosystem.html
DTSTART:20260416T080000Z
DTEND:20260416T110000Z
LOCATION:Roma (Roma)
SUMMARY:Shaping tomorrow - Artificial Intelligence e the Digital Transforma
 tion of the Energy Ecosystem
URL:https://www.takethedate.it/archivio/Eventi/52201-shaping-tomorrow-artif
 icial-intelligence-e-the-digital-transformation-of-the-energy-ecosystem.ht
 ml
END:VEVENT
END:VCALENDAR
