BEGIN:VCALENDAR
VERSION:2.0
PRODID:-//https://www.takethedate.it///NONSGML kigkonsult.se iCalcreator 2.10.15//
METHOD:PUBLISH
BEGIN:VEVENT
UID:20260419T172305CEST-49057LxOC5@https://www.takethedate.it/
DTSTAMP:20260419T152305Z
DESCRIPTION: https://www.takethedate.it/archivio/Eventi/52198-terapie-innov
 ative-nella-pratica-clinica-dei-tumori-genitourinari.html
DTSTART:20260415T143000Z
DTEND:20260415T163000Z
LOCATION:evento online  ()
SUMMARY:Terapie innovative nella pratica clinica dei tumori genitourinari
URL:https://www.takethedate.it/archivio/Eventi/52198-terapie-innovative-nel
 la-pratica-clinica-dei-tumori-genitourinari.html
END:VEVENT
END:VCALENDAR
