BEGIN:VCALENDAR
VERSION:2.0
PRODID:-//https://www.takethedate.it///NONSGML kigkonsult.se iCalcreator 2.10.15//
METHOD:PUBLISH
BEGIN:VEVENT
UID:20260419T172231CEST-2042a1zgvH@https://www.takethedate.it/
DTSTAMP:20260419T152231Z
DESCRIPTION:Il Dipartimento di Scienze Economico-Aziendali\, Giuridiche e P
 olitiche\, nell’ambito delle attività formative promosse dal Dottorato di 
 ricerca in Scienze Giuridiche e Politiche\, organizza la seconda edizione 
 del corso specialistico dedicato all’analisi delle sfide poste dall’innova
 zione tecnologica nel sistema processuale penale.\nIl corso\, sotto la res
 ponsabilità scientifica del Prof. Luigi Ludovici\, si articola in quattro 
 incontri tematici che approfondiscono l’interazione tra scienza\, tecnolog
 ia e diritto che si svolgeranno presso la Sala Giulio Cesare\, Via Vittori
 a Colonna n. 11\, Roma.\nProgramma degli Incontri: Incontro n. 1 | L’accer
 tamento neuroscientifico dell’imputabilità 16 Marzo 2026 – ore 11:00 Relat
 ore: Prof. Eduardo Rafael Luna Álvarez (Universitat de les Illes Balears) 
 Focus: Analisi del contributo delle neuroscienze nella valutazione della c
 apacità di intendere e di volere dell’imputato.\nIncontro n. 2 | Smartphon
 e e prova penale 17 Aprile 2026 – ore 11:00 – Aula Plinio via Plinio\, 44 
 Roma Relatrice: Dott.ssa Ottavia Murro (Università Telematica “Pegaso”) Fo
 cus: Le problematiche giuridiche e tecniche legate all’acquisizione e all’
 utilizzo dei dati contenuti nei dispositivi mobili come prova nel processo
 .\nIncontro n. 3 | Le predizioni algoritimiche nel giudizio cautelare 12 M
 aggio 2026 – ore 15:00 Relatrice: Prof.ssa Elena Valentini (Università “Al
 ma Mater Studiorum” di Bologna) Focus: L’impatto degli algoritmi predittiv
 i sulle decisioni riguardanti le misure cautelari e i rischi di automazion
 e del giudizio.\nIncontro n. 4 | Il riconoscimento facciale 18 Settembre 2
 026 – ore 15:00 Relatore: Dott. Fabrizio Demartis (Università degli Studi 
 di Cagliari) Focus: Profili normativi e criticità tecniche dell’impiego de
 i sistemi di riconoscimento facciale nelle indagini e nel dibattimento. ht
 tps://www.takethedate.it/archivio/Eventi/52181-limpatto-delle-nuove-tecnol
 ogie-sul-processo-penale.html
DTSTART:20260417T090000Z
DTEND:20260417T110000Z
LOCATION:Roma (Roma)
SUMMARY:L'impatto delle nuove tecnologie sul processo penale 
URL:https://www.takethedate.it/archivio/Eventi/52181-limpatto-delle-nuove-t
 ecnologie-sul-processo-penale.html
END:VEVENT
END:VCALENDAR
