BEGIN:VCALENDAR
VERSION:2.0
PRODID:-//https://www.takethedate.it///NONSGML kigkonsult.se iCalcreator 2.10.15//
METHOD:PUBLISH
BEGIN:VEVENT
UID:20260419T203935CEST-4567JzrKmw@https://www.takethedate.it/
DTSTAMP:20260419T183935Z
DESCRIPTION:L'evento “Dall’impresa alla rete: l’ultimo miglio insieme” è in
  programma Venerdì 17 aprile alle ore 18:00 presso la sede di ValoreCASA\,
  in via Giandomenico Petroni 47-49 (ang. via Dalmazia 2-4)\, Bari.\nL’iniz
 iativa rappresenta un momento dedicato ai professionisti e alla rete costr
 uita nel corso del progetto\, con un focus sulla promozione delle attività
  e sul networking\, in un format dinamico e orientato al confronto diretto
 . https://www.takethedate.it/archivio/Eventi/52177-dallimpresa-alla-rete-l
 ultimo-miglio-insieme.html
DTSTART:20260417T160000Z
DTEND:20260417T180000Z
LOCATION:Bari (Lungomare Imperatore Augusto\, Bari)
SUMMARY:Dall’impresa alla rete: l’ultimo miglio insieme
URL:https://www.takethedate.it/archivio/Eventi/52177-dallimpresa-alla-rete-
 lultimo-miglio-insieme.html
END:VEVENT
END:VCALENDAR
