BEGIN:VCALENDAR
VERSION:2.0
PRODID:-//https://www.takethedate.it///NONSGML kigkonsult.se iCalcreator 2.10.15//
METHOD:PUBLISH
BEGIN:VEVENT
UID:20260419T214635CEST-5558jPESpD@https://www.takethedate.it/
DTSTAMP:20260419T194635Z
DESCRIPTION:16 APRILE e 29 APRILE Webinar gratuiti https://www.takethedate.
 it/archivio/Eventi/52166-focus-agroalimentare-speciale-sud-america.html
DTSTART:20260416T140000Z
DTEND:20260416T170000Z
LOCATION:evento online  ()
SUMMARY:Focus agroalimentare: speciale sud America
URL:https://www.takethedate.it/archivio/Eventi/52166-focus-agroalimentare-s
 peciale-sud-america.html
END:VEVENT
END:VCALENDAR
