BEGIN:VCALENDAR
VERSION:2.0
PRODID:-//https://www.takethedate.it///NONSGML kigkonsult.se iCalcreator 2.10.15//
METHOD:PUBLISH
BEGIN:VEVENT
UID:20260419T171859CEST-0978KpuMVZ@https://www.takethedate.it/
DTSTAMP:20260419T151859Z
DESCRIPTION:Città metropolitana ospiterà il 17 aprile dalle 15.30 nella Sal
 a Di Liegro di Palazzo Valentini\, l’evento organizzato dall’Associazione 
 “Laboratorio del Possibile” e dedicato all’analisi del disagio giovanile.
 \nUn pomeriggio dedicato a ciò che per molti è diventata una vera e propri
 a emergenza\, confrontando conoscenze ed esperienze\; le proposte politich
 e e le buone prassi da applicare.\nAd aprire i lavori la Consigliera Deleg
 ata alle Pari Opportunità\, Politiche Sociali\, Cultura\, Partecipazione e
  Anticorruzione della Città metropolitana di Roma Capitale\, Tiziana Biolg
 hini.\nTra gli interventi previsti: Daniela Di Camillo\, Presidente Labora
 torio del Possibile\; Eleonora Mattia\, Consigliera regionale\; Stefano Ca
 llipo\, Presidente dell’Osservatorio Violenza e Suicidio Adolescenza\; Gab
 riele Raho\, Giornalista\; Federica Di Pietrantonio\, Psicologa\; Imma Cus
 mai\, Presidente Femminicidio In Vita\; Fabio Massimo Proietti\, Rete Degl
 i Studenti Medi di Tivoli\; Massimo Curci\, Scrittore e Docente\; Sara Erb
 a Di Vaio\, Psicoterapeuta sessuologa\; Pieranna Pischedda\, Psicologa e A
 ngela Dimiccoli\, Avvocata. https://www.takethedate.it/archivio/Eventi/521
 64-il-disagio-giovanile-e-le-sue-forme.html
DTSTART:20260417T133000Z
DTEND:20260417T153000Z
LOCATION:Roma (Roma)
SUMMARY:Il disagio giovanile e le sue forme
URL:https://www.takethedate.it/archivio/Eventi/52164-il-disagio-giovanile-e
 -le-sue-forme.html
END:VEVENT
END:VCALENDAR
