BEGIN:VCALENDAR
VERSION:2.0
PRODID:-//https://www.takethedate.it///NONSGML kigkonsult.se iCalcreator 2.10.15//
METHOD:PUBLISH
BEGIN:VEVENT
UID:20260419T172322CEST-8463bPMbUs@https://www.takethedate.it/
DTSTAMP:20260419T152322Z
DESCRIPTION: https://www.takethedate.it/archivio/Eventi/52159-la-giornata-d
 ella-bellezza-in-oncologia-conferenza-stampa-di-gerolamo-cangiano.html
DTSTART:20260415T110000Z
DTEND:20260415T130000Z
LOCATION:Roma (Roma)
SUMMARY:La giornata della bellezza in oncologia - Conferenza stampa di Gero
 lamo Cangiano
URL:https://www.takethedate.it/archivio/Eventi/52159-la-giornata-della-bell
 ezza-in-oncologia-conferenza-stampa-di-gerolamo-cangiano.html
END:VEVENT
END:VCALENDAR
