BEGIN:VCALENDAR
VERSION:2.0
PRODID:-//https://www.takethedate.it///NONSGML kigkonsult.se iCalcreator 2.10.15//
METHOD:PUBLISH
BEGIN:VEVENT
UID:20260419T172425CEST-131324eoMi@https://www.takethedate.it/
DTSTAMP:20260419T152425Z
DESCRIPTION:Alle ore 18\, presso la Sala della Regina di Montecitorio si sv
 olge la presentazione del libro 'Sua maestà il cuore - Dal cuore nasce la 
 nuova idea di cura'\, di Massimo Massetti e Alfonso Dell'Erario. Saluto de
 l vicepresidente della Camera\, Giorgio Mulè.  https://www.takethedate.it/
 archivio/Eventi/52156-sua-maesta-il-cuore-dal-cuore-nasce-la-nuova-idea-di
 -cura-saluto-di-mule.html
DTSTART:20260415T160000Z
DTEND:20260415T180000Z
LOCATION:Roma (Roma)
SUMMARY:​Sua maestà il cuore - Dal cuore nasce la nuova idea di cura - Salu
 to di Mulè
URL:https://www.takethedate.it/archivio/Eventi/52156-sua-maesta-il-cuore-da
 l-cuore-nasce-la-nuova-idea-di-cura-saluto-di-mule.html
END:VEVENT
END:VCALENDAR
