BEGIN:VCALENDAR
VERSION:2.0
PRODID:-//https://www.takethedate.it///NONSGML kigkonsult.se iCalcreator 2.10.15//
METHOD:PUBLISH
BEGIN:VEVENT
UID:20260419T214655CEST-76882vcKxB@https://www.takethedate.it/
DTSTAMP:20260419T194655Z
DESCRIPTION:Manifesto per il biocontrollo: un sostegno concreto per l'agric
 oltura. Su iniziativa del senatore Luca De Carlo https://www.takethedate.i
 t/archivio/Eventi/52151-manifesto-per-il-biocontrollo.html
DTSTART:20260415T130000Z
DTEND:20260415T150000Z
LOCATION:Roma (Roma)
SUMMARY:Manifesto per il biocontrollo
URL:https://www.takethedate.it/archivio/Eventi/52151-manifesto-per-il-bioco
 ntrollo.html
END:VEVENT
END:VCALENDAR
