BEGIN:VCALENDAR
VERSION:2.0
PRODID:-//https://www.takethedate.it///NONSGML kigkonsult.se iCalcreator 2.10.15//
METHOD:PUBLISH
BEGIN:VEVENT
UID:20260419T201130CEST-0288NXuSHv@https://www.takethedate.it/
DTSTAMP:20260419T181130Z
DESCRIPTION:La decisione pubblica nell'era dell’intelligenza artificiale: i
 l futuro della valutazione delle politiche pubbliche. Su iniziativa del se
 natore Antonio Salvatore Trevisi https://www.takethedate.it/archivio/Event
 i/52150-la-decisione-pubblica-nellera-dellintelligenza-artificiale.html
DTSTART:20260415T130000Z
DTEND:20260415T150000Z
LOCATION:Roma (Roma)
SUMMARY:La decisione pubblica nell'era dell'intelligenza artificiale
URL:https://www.takethedate.it/archivio/Eventi/52150-la-decisione-pubblica-
 nellera-dellintelligenza-artificiale.html
END:VEVENT
END:VCALENDAR
