BEGIN:VCALENDAR
VERSION:2.0
PRODID:-//https://www.takethedate.it///NONSGML kigkonsult.se iCalcreator 2.10.15//
METHOD:PUBLISH
BEGIN:VEVENT
UID:20260419T184853CEST-08610u4HBD@https://www.takethedate.it/
DTSTAMP:20260419T164853Z
DESCRIPTION:Il conservatorismo in Europa fra populismi e nuovi nazionalismi
 . Su iniziativa del senatore Marcello Pera https://www.takethedate.it/arch
 ivio/Eventi/52145-il-conservatorismo-in-europa-fra-populismi-e-nuovi-nazio
 nalismi.html
DTSTART:20260415T080000Z
DTEND:20260415T110000Z
LOCATION:Roma (Roma)
SUMMARY:Il conservatorismo in Europa fra populismi e nuovi nazionalismi
URL:https://www.takethedate.it/archivio/Eventi/52145-il-conservatorismo-in-
 europa-fra-populismi-e-nuovi-nazionalismi.html
END:VEVENT
END:VCALENDAR
