BEGIN:VCALENDAR
VERSION:2.0
PRODID:-//https://www.takethedate.it///NONSGML kigkonsult.se iCalcreator 2.10.15//
METHOD:PUBLISH
BEGIN:VEVENT
UID:20260419T172415CEST-3499PioiGM@https://www.takethedate.it/
DTSTAMP:20260419T152415Z
DESCRIPTION:Una roadmap verso l'implementazione della farmacogenetica nel S
 istema Sanitario Nazionale. Su iniziativa della senatrice Daniela Ternullo
  https://www.takethedate.it/archivio/Eventi/52144-una-roadmap-verso-limple
 mentazione-della-farmacogenetica-nel-sistema-sanitario-nazionale.html
DTSTART:20260415T070000Z
DTEND:20260415T100000Z
LOCATION:Roma (Roma)
SUMMARY:Una roadmap verso l'implementazione della farmacogenetica nel Siste
 ma Sanitario Nazionale
URL:https://www.takethedate.it/archivio/Eventi/52144-una-roadmap-verso-limp
 lementazione-della-farmacogenetica-nel-sistema-sanitario-nazionale.html
END:VEVENT
END:VCALENDAR
