BEGIN:VCALENDAR
VERSION:2.0
PRODID:-//https://www.takethedate.it///NONSGML kigkonsult.se iCalcreator 2.10.15//
METHOD:PUBLISH
BEGIN:VEVENT
UID:20260419T204032CEST-5431VJBaT1@https://www.takethedate.it/
DTSTAMP:20260419T184032Z
DESCRIPTION: \n\nL’evento “Edge of Tomorrow – Sparking Innovation” si terrà
  il 16 aprile 2026 a partire dalle 16:30 presso Officina 22\, Foro Buonapa
 rte 22\, Milano.\nDe Nora invita a scoprire il lancio del progetto Innovat
 ion Hub\, pensato per supportare le startup nell’industrializzazione e nel
 la crescita delle proprie tecnologie\, e per presentare il percorso di inn
 ovazione e le attività aziendali dedicate.\nL’evento prevede interventi de
 l CEO Paolo Dellachà\, sessioni dedicate all’innovazione con i manager De 
 Nora\, un panel di confronto con esperti del settore e un aperitivo di net
 working per favorire connessioni e collaborazioni.\nPer confermare la part
 ecipazione entro il 10 aprile scrivere a arabino.denoraita@barabino.it\n h
 ttps://www.takethedate.it/archivio/Eventi/52130-edge-of-tomorrow---sparkin
 g-innovation.html
DTSTART:20260416T143000Z
DTEND:20260416T173000Z
LOCATION:Milano (Milano)
SUMMARY:Edge of Tomorrow – Sparking Innovation
URL:https://www.takethedate.it/archivio/Eventi/52130-edge-of-tomorrow---spa
 rking-innovation.html
END:VEVENT
END:VCALENDAR
