BEGIN:VCALENDAR
VERSION:2.0
PRODID:-//https://www.takethedate.it///NONSGML kigkonsult.se iCalcreator 2.10.15//
METHOD:PUBLISH
BEGIN:VEVENT
UID:20260419T184918CEST-5652SHhM2W@https://www.takethedate.it/
DTSTAMP:20260419T164918Z
DESCRIPTION:  https://www.takethedate.it/archivio/Eventi/52106-incidenti-su
 l-lavoro-conferenza-stampa-di-nicola-fratoianni.html
DTSTART:20260414T110000Z
DTEND:20260414T140000Z
LOCATION:Roma (Roma)
SUMMARY:Incidenti sul lavoro - Conferenza stampa di Nicola Fratoianni
URL:https://www.takethedate.it/archivio/Eventi/52106-incidenti-sul-lavoro-c
 onferenza-stampa-di-nicola-fratoianni.html
END:VEVENT
END:VCALENDAR
