BEGIN:VCALENDAR
VERSION:2.0
PRODID:-//https://www.takethedate.it///NONSGML kigkonsult.se iCalcreator 2.10.15//
METHOD:PUBLISH
BEGIN:VEVENT
UID:20260419T172115CEST-66156cvOgv@https://www.takethedate.it/
DTSTAMP:20260419T152115Z
DESCRIPTION:Venerdì 17 aprile | ore 17:45 Presentazione del libro 50 RITRAT
 TI DEL CATTOLICESIMO DEMOCRATICO Salone di Rappresentanza di Palazzo Tursi
 \, via Garibaldi 9 Saluti istituzionali PAOLA MACCAGNO Consigliera comunal
 e PD di Genova Introduzione FEDERICO ROMEO Consigliere regionale PD della 
 Liguria Dialogo GRAZIANO DELRIO Senatore PD\, già ministro MONICA CANALIS 
 Consigliera regionale PD del Piemonte Modera LUCA ROLANDI Giornalista http
 s://www.takethedate.it/archivio/Eventi/52086-presentazione-del-libro-50-ri
 tratti-del-cattolicesimo-democratico.html
DTSTART:20260417T154500Z
DTEND:20260417T184500Z
LOCATION:Genova (Genova)
SUMMARY:Presentazione del libro: '50 ritratti del cattolicesimo democratico
 '
URL:https://www.takethedate.it/archivio/Eventi/52086-presentazione-del-libr
 o-50-ritratti-del-cattolicesimo-democratico.html
END:VEVENT
END:VCALENDAR
