BEGIN:VCALENDAR
VERSION:2.0
PRODID:-//https://www.takethedate.it///NONSGML kigkonsult.se iCalcreator 2.10.15//
METHOD:PUBLISH
BEGIN:VEVENT
UID:20260420T025940CEST-2430KBT5Vu@https://www.takethedate.it/
DTSTAMP:20260420T005940Z
DESCRIPTION:I vantaggi economici\, sociali e ambientali dell’autoconsumo di
 ffuso. Un anno di collaborazione con Legacoop Abitanti per le CER in ambit
 o cooperativo.\nSaluti di introduzione: Simone Nisi\, Executive Vice Presi
 dent Divisione Affari Istituzionali\, Regolazione e Climate Change del Gru
 ppo Edison Parteciperanno: Rossana Zaccaria\, Presidente Legacoop Abitanti
  Massimo Quaglini\, Amministratore Delegato Edison Energia Michele Vitiell
 o\, Segretario Generale WEC Italia Tavola rotonda: il percorso realizzato 
 ad oggi e i prossimi passi: Ottavio Retico\, Promozione e Assistenza alle 
 Imprese (GSE) Giorgio Nanni\, Responsabile Ambiente\, Energia e Innovazion
 e di Legacoop Nazionale Eufrasia Lepore\, Presidente Con.Abit.Salerno (Con
 sorzio Cooperative Abitanti) Stefano Russo\, Presidente Abicoop Bassa Regg
 iana Soc Coop di Novellara RE Moreno Minacci\, Presidente della Cooperativ
 a Edificatrice Tre di Verbania VB Edoardo Zanchini\, Direttore Ufficio Cli
 ma Energia del Comune di Roma Conclusioni istituzionali: Stefania Crotta\,
  Direttore Generale DG Programmi e Incentivi Finanziari del MASE João Gonç
 alves\, Direttore dell’Innovazione Coordinatore della Partnership tra SOCI
 ALNRG e Iniziativa per l’Edilizia Abitativa Accessibile Modera: Marta Bonu
 cci\, Quotidiano Energia Per partecipare si prega di scrivere a: roma@edis
 on.it\n \nScarica la locandina con il programma https://www.takethedate.it
 /archivio/Eventi/52074-i-vantaggi-economici-sociali-e-ambientali-dellautoc
 onsumo-diffuso.html
DTSTART:20260415T090000Z
DTEND:20260415T120000Z
LOCATION:Roma (Roma)
SUMMARY:I vantaggi economici\, sociali e ambientali dell’autoconsumo diffus
 o
URL:https://www.takethedate.it/archivio/Eventi/52074-i-vantaggi-economici-s
 ociali-e-ambientali-dellautoconsumo-diffuso.html
END:VEVENT
END:VCALENDAR
