BEGIN:VCALENDAR
VERSION:2.0
PRODID:-//https://www.takethedate.it///NONSGML kigkonsult.se iCalcreator 2.10.15//
METHOD:PUBLISH
BEGIN:VEVENT
UID:20260419T171954CEST-1488KpBlVe@https://www.takethedate.it/
DTSTAMP:20260419T151954Z
DESCRIPTION:Si svolgerà a Palmi la XIII edizione del Festival nazionale di 
 Diritto e Letteratura\, dedicata al tema “Una casa dove abitano tutti. Pen
 sare Mediterraneo tra letteratura e diritto”.\nAnche quest’anno\, l’Eurisp
 es sostiene l’iniziativa in qualità di ente patrocinante\, contribuendo a 
 tenere vivo un dialogo interdisciplinare su temi di rilevanza sociale e cu
 lturale.\nIl Festival rappresenta un’occasione di confronto e riflessione 
 sui legami tra diritto\, cultura e società\, con eventi in programma dal 1
 5 al 18 aprile e appuntamenti in prosecuzione nel mese di maggio.\nIl prog
 ramma dei lavori è scaricabile cliccando qui https://www.takethedate.it/ar
 chivio/Eventi/52072-una-casa-dove-abitano-tutti.html
DTSTART:20260415T083000Z
DTEND:20260418T113000Z
LOCATION:in varie sedi ()
SUMMARY:Una casa dove abitano tutti
URL:https://www.takethedate.it/archivio/Eventi/52072-una-casa-dove-abitano-
 tutti.html
END:VEVENT
END:VCALENDAR
