BEGIN:VCALENDAR
VERSION:2.0
PRODID:-//https://www.takethedate.it///NONSGML kigkonsult.se iCalcreator 2.10.15//
METHOD:PUBLISH
BEGIN:VEVENT
UID:20260419T220040CEST-6920jCFCBN@https://www.takethedate.it/
DTSTAMP:20260419T200040Z
DESCRIPTION:\n\n\nLunedì 13 aprile\, alle ore 14.30\, presso la Sala del Re
 fettorio di Palazzo San Macuto si svolge il convegno 'Educazione e protezi
 one digitale - Quali alleanze per un'azione comune in Italia e in Europa?'
 . Saluto della vicepresidente della Camera\, Anna Ascani.\n\n\n\n\n\nProgr
 amma\n\n https://www.takethedate.it/archivio/Eventi/51997-educazione-e-pro
 tezione-digitale-quali-alleanze-per-unazione-comune-in-italia-e-in-europa.
 html
DTSTART:20260413T123000Z
DTEND:20260413T153000Z
LOCATION:Roma (Roma)
SUMMARY:Educazione e protezione digitale - Quali alleanze per un'azione com
 une in Italia e in Europa?
URL:https://www.takethedate.it/archivio/Eventi/51997-educazione-e-protezion
 e-digitale-quali-alleanze-per-unazione-comune-in-italia-e-in-europa.html
END:VEVENT
END:VCALENDAR
