BEGIN:VCALENDAR
VERSION:2.0
PRODID:-//https://www.takethedate.it///NONSGML kigkonsult.se iCalcreator 2.10.15//
METHOD:PUBLISH
BEGIN:VEVENT
UID:20260419T203321CEST-3249uuO1ne@https://www.takethedate.it/
DTSTAMP:20260419T183321Z
DESCRIPTION:Si terrà giovedì 16 aprile alle ore 18.30 a Conegliano\, presso
  l’hotel Relais 'Le Betulle'\, un convegno dal titolo ‘La prima volta non 
 si scorda mai’\, organizzato dal senatore Luca De Carlo\, presidente della
  commissione Industria\, Commercio\, Turismo e Produzione Agroalimentare i
 n Senato con il patrocinio del Ministero delle Imprese e del Made in Italy
 . Sarà proprio la giornata del Made in Italy a fare da sfondo ad un evento
  che vedrà riunite aziende\, associazioni\, consorzi e studiosi di realtà 
 che hanno visto la loro primogenitura in Veneto e che hanno contribuito in
  maniera sostanziale a rivoluzionare i vari aspetti del quotidiano e a dif
 fondere il sistema Made in Italy nel mondo.\nInterverranno\, oltre al sena
 tore Luca De Carlo\, il ministro delle imprese e del Made in Italy Adolfo 
 Urso\, il vicepresidente della regione Veneto Lucas Pavanetto\, lo storico
  d’impresa Massimo Orlandini\, l’imprenditore e pronipote dell’inventore d
 el motore a scoppio Carlo Alberto Menon\, il presidente di ‘Cultura e Cuci
 na’ Paolo Caradossidis e l’ideatore della Tiramisù World Cup Francesco Red
 i. https://www.takethedate.it/archivio/Eventi/51992-la-prima-volta-non-si-
 scorda-mai.html
DTSTART:20260416T163000Z
DTEND:20260416T183000Z
LOCATION:Conegliano (Conegliano)
SUMMARY:La prima volta non si scorda mai
URL:https://www.takethedate.it/archivio/Eventi/51992-la-prima-volta-non-si-
 scorda-mai.html
END:VEVENT
END:VCALENDAR
