BEGIN:VCALENDAR
VERSION:2.0
PRODID:-//https://www.takethedate.it///NONSGML kigkonsult.se iCalcreator 2.10.15//
METHOD:PUBLISH
BEGIN:VEVENT
UID:20260419T184349CEST-4944vUm6co@https://www.takethedate.it/
DTSTAMP:20260419T164349Z
DESCRIPTION:Venerdì 17 aprileore 16.00-18.00\nThe new ISO-GHGP dual logo st
 andards on carbon accounting\n\nLast summer\, the International Organizati
 on for Standardization (ISO) and the Greenhouse Gas Protocol (GHGP) signed
  an agreement to develop common dual-logo standards for the GHG quantifica
 tion of products\, organizations\, and projects.\n \nISCRIVITI\n \n https:
 //www.takethedate.it/archivio/Eventi/51966-the-new-iso-ghgp-dual-logo-stan
 dards-on-carbon-accounting.html
DTSTART:20260417T140000Z
DTEND:20260417T160000Z
LOCATION:Padova (Padova)
SUMMARY:The new ISO-GHGP dual logo standards on carbon accounting
URL:https://www.takethedate.it/archivio/Eventi/51966-the-new-iso-ghgp-dual-
 logo-standards-on-carbon-accounting.html
END:VEVENT
END:VCALENDAR
